BEGIN:VCALENDAR
VERSION:2.0
PRODID:-//Local Las Cruces - ECPv6.6.4.2//NONSGML v1.0//EN
CALSCALE:GREGORIAN
METHOD:PUBLISH
X-WR-CALNAME:Local Las Cruces
X-ORIGINAL-URL:https://locallascruces.com
X-WR-CALDESC:Events for Local Las Cruces
REFRESH-INTERVAL;VALUE=DURATION:PT1H
X-Robots-Tag:noindex
X-PUBLISHED-TTL:PT1H
BEGIN:VTIMEZONE
TZID:America/Chicago
BEGIN:DAYLIGHT
TZOFFSETFROM:-0600
TZOFFSETTO:-0500
TZNAME:CDT
DTSTART:20190310T080000
END:DAYLIGHT
BEGIN:STANDARD
TZOFFSETFROM:-0500
TZOFFSETTO:-0600
TZNAME:CST
DTSTART:20191103T070000
END:STANDARD
END:VTIMEZONE
BEGIN:VEVENT
DTSTART;TZID=America/Chicago:20190906T113000
DTEND;TZID=America/Chicago:20190906T123000
DTSTAMP:20260424T052041
CREATED:20190717T202341Z
LAST-MODIFIED:20190717T202457Z
UID:2405-1567769400-1567773000@locallascruces.com
SUMMARY:September First Friday:  LLC\, Corporation or Sole Proprietor.  What is right for you?
DESCRIPTION:Join WESST and the Las Cruces Green Chamber of Commerce as we present the September First Friday: LLC\, Corporation\, or Sole Proprietor.  What is Right for You?  The workshop will feature Humberto Hijar-Alvidrez \, WESST Regional Manager\, as he explains the differences between an LLC\, Corporation\, and Sole Proprietor and provides guidance on what is bests for your business. \nThe First Friday takes place at the Thomas Branigan Memorial Library Roadrunner room\, 2nd floor. \nThe event is free and open to the public.  Please RSVP here to Alicia Garcia at WESST.  agarcia@wesst.org
URL:https://locallascruces.com/event/september-first-friday-llc-corporation-or-sole-proprietor-what-is-right-for-you/
LOCATION:Thomas Branigan Library RoadRunner Room\, 200 E. Picacho\, Las Cruces\, 88001\, United States
CATEGORIES:First Friday
ORGANIZER;CN="Las Cruces Green Chamber of Commerce":MAILTO:carrie@nmgreenchamber.com 
END:VEVENT
END:VCALENDAR